BEGIN:VCALENDAR
VERSION:2.0
PRODID:-//Vitteaux - ECPv5.16.1//NONSGML v1.0//EN
CALSCALE:GREGORIAN
METHOD:PUBLISH
X-WR-CALNAME:Vitteaux
X-ORIGINAL-URL:https://www.vitteaux.fr
X-WR-CALDESC:évènements pour Vitteaux
BEGIN:VTIMEZONE
TZID:Europe/Paris
BEGIN:DAYLIGHT
TZOFFSETFROM:+0100
TZOFFSETTO:+0200
TZNAME:CEST
DTSTART:20240331T010000
END:DAYLIGHT
BEGIN:STANDARD
TZOFFSETFROM:+0200
TZOFFSETTO:+0100
TZNAME:CET
DTSTART:20241027T010000
END:STANDARD
END:VTIMEZONE
BEGIN:VEVENT
DTSTART;TZID=Europe/Paris:20240724T153000
DTEND;TZID=Europe/Paris:20240724T190000
DTSTAMP:20260419T234025
CREATED:20240719T194256Z
LAST-MODIFIED:20240719T194256Z
UID:8832-1721835000-1721847600@www.vitteaux.fr
SUMMARY:Collecte de sang
DESCRIPTION:La collecte de sang a lieu mercredi 24 juillet de 15h30 à 19h. \nVous pouvez prendre rendez-vous directement sur le site de l’Établissement Français du sang (en cliquant ici). \n \nEn raison des travaux de la salle polyvalente de Vitteaux\, les collectes de sang ont lieu à l’espace de rencontres et de loisirs « La scie » de Villy-en-Auxois (informations et plan d’accès ci-dessous).
URL:https://www.vitteaux.fr/evenement/collecte-de-sang-14/
LOCATION:Espace de rencontres et de loisirs « La scie » de VILLY-EN-AUXOIS\, 25 rue du Cloitre\, VILLY-EN-AUXOIS\, 21350\, France
CATEGORIES:Solidarité
ORGANIZER;CN="Association%20pour%20le%20don%20de%20sang%20b%C3%A9n%C3%A9vole":MAILTO:amicaledonneursvitteaux@outlook.fr
END:VEVENT
END:VCALENDAR