BEGIN:VCALENDAR
VERSION:2.0
PRODID:-//Vitteaux - ECPv5.16.1//NONSGML v1.0//EN
CALSCALE:GREGORIAN
METHOD:PUBLISH
X-WR-CALNAME:Vitteaux
X-ORIGINAL-URL:https://www.vitteaux.fr
X-WR-CALDESC:évènements pour Vitteaux
BEGIN:VTIMEZONE
TZID:Europe/Paris
BEGIN:DAYLIGHT
TZOFFSETFROM:+0100
TZOFFSETTO:+0200
TZNAME:CEST
DTSTART:20250330T010000
END:DAYLIGHT
BEGIN:STANDARD
TZOFFSETFROM:+0200
TZOFFSETTO:+0100
TZNAME:CET
DTSTART:20251026T010000
END:STANDARD
END:VTIMEZONE
BEGIN:VEVENT
DTSTART;TZID=Europe/Paris:20250214T200000
DTEND;TZID=Europe/Paris:20250214T200000
DTSTAMP:20260419T193507
CREATED:20241215T144100Z
LAST-MODIFIED:20250119T152630Z
UID:9362-1739563200-1739563200@www.vitteaux.fr
SUMMARY:Cinéma "Vingt dieux"
DESCRIPTION:  \n \nTotone\, 18 ans\, passe le plus clair de son temps à boire des bières et écumer les bals du Jura avec sa bande de potes. Mais la réalité le rattrape : il doit s’occuper de sa petite sœur de 7 ans et trouver un moyen de gagner sa vie. Il se met alors en tête de fabriquer le meilleur comté de la région\, celui avec lequel il remporterait la médaille d’or du concours agricole et 30 000 euros.
URL:https://www.vitteaux.fr/evenement/cinema-vingt-dieux/
LOCATION:Salle Guéniot
CATEGORIES:Culture
ORGANIZER;CN="M%C3%A9diath%C3%A8que":MAILTO:bibliotheque-vitteaux@wanadoo.fr
END:VEVENT
END:VCALENDAR