BEGIN:VCALENDAR
VERSION:2.0
PRODID:-//Vitteaux - ECPv5.16.1//NONSGML v1.0//EN
CALSCALE:GREGORIAN
METHOD:PUBLISH
X-WR-CALNAME:Vitteaux
X-ORIGINAL-URL:https://www.vitteaux.fr
X-WR-CALDESC:évènements pour Vitteaux
BEGIN:VTIMEZONE
TZID:Europe/Paris
BEGIN:DAYLIGHT
TZOFFSETFROM:+0100
TZOFFSETTO:+0200
TZNAME:CEST
DTSTART:20240331T010000
END:DAYLIGHT
BEGIN:STANDARD
TZOFFSETFROM:+0200
TZOFFSETTO:+0100
TZNAME:CET
DTSTART:20241027T010000
END:STANDARD
END:VTIMEZONE
BEGIN:VEVENT
DTSTART;TZID=Europe/Paris:20241227T150000
DTEND;TZID=Europe/Paris:20241227T150000
DTSTAMP:20260421T172010
CREATED:20241124T184033Z
LAST-MODIFIED:20241124T184113Z
UID:9303-1735311600-1735311600@www.vitteaux.fr
SUMMARY:Cinéma "Vaiana 2"
DESCRIPTION:Après avoir reçu une invitation inattendue de ses ancêtres\, Vaiana entreprend un périple qui la conduira jusqu’aux eaux dangereuses situées aux confins des mers des îles du Pacifique. Elle y vivra des péripéties comme jamais vécues auparavant.
URL:https://www.vitteaux.fr/evenement/cinema-vaiana-2/
LOCATION:Salle Guéniot
CATEGORIES:Culture
ORGANIZER;CN="M%C3%A9diath%C3%A8que":MAILTO:bibliotheque-vitteaux@wanadoo.fr
END:VEVENT
END:VCALENDAR