BEGIN:VCALENDAR
VERSION:2.0
PRODID:-//Vitteaux - ECPv5.16.1//NONSGML v1.0//EN
CALSCALE:GREGORIAN
METHOD:PUBLISH
X-WR-CALNAME:Vitteaux
X-ORIGINAL-URL:https://www.vitteaux.fr
X-WR-CALDESC:évènements pour Vitteaux
BEGIN:VTIMEZONE
TZID:Europe/Paris
BEGIN:DAYLIGHT
TZOFFSETFROM:+0100
TZOFFSETTO:+0200
TZNAME:CEST
DTSTART:20230326T010000
END:DAYLIGHT
BEGIN:STANDARD
TZOFFSETFROM:+0200
TZOFFSETTO:+0100
TZNAME:CET
DTSTART:20231029T010000
END:STANDARD
END:VTIMEZONE
BEGIN:VEVENT
DTSTART;TZID=Europe/Paris:20230303T203000
DTEND;TZID=Europe/Paris:20230303T203000
DTSTAMP:20260425T194950
CREATED:20230224T125627Z
LAST-MODIFIED:20230224T125846Z
UID:6094-1677875400-1677875400@www.vitteaux.fr
SUMMARY:Cinéma - "Un petit miracle"
DESCRIPTION:Rien ne va plus pour Juliette ! L’école dans laquelle elle enseignait a brûlé\, et sa classe unique va devoir être dispatchée aux quatre coins du département. Pour éviter cela\, elle propose une solution surprenante : installer sa classe aux Platanes\, la maison de retraite locale\, seul endroit qui puisse les accueillir le temps des travaux. Pour les enfants comme pour les pensionnaires\, la cohabitation ne sera pas de tout repos\, mais va les transformer à jamais. Inspiré d’une histoire vraie.
URL:https://www.vitteaux.fr/evenement/cinema-un-petit-miracle/
LOCATION:Salle Guéniot
CATEGORIES:Culture
END:VEVENT
END:VCALENDAR