BEGIN:VCALENDAR
VERSION:2.0
PRODID:-//Vitteaux - ECPv5.16.1//NONSGML v1.0//EN
CALSCALE:GREGORIAN
METHOD:PUBLISH
X-WR-CALNAME:Vitteaux
X-ORIGINAL-URL:https://www.vitteaux.fr
X-WR-CALDESC:évènements pour Vitteaux
BEGIN:VTIMEZONE
TZID:Europe/Paris
BEGIN:DAYLIGHT
TZOFFSETFROM:+0100
TZOFFSETTO:+0200
TZNAME:CEST
DTSTART:20240331T010000
END:DAYLIGHT
BEGIN:STANDARD
TZOFFSETFROM:+0200
TZOFFSETTO:+0100
TZNAME:CET
DTSTART:20241027T010000
END:STANDARD
END:VTIMEZONE
BEGIN:VEVENT
DTSTART;TZID=Europe/Paris:20241220T200000
DTEND;TZID=Europe/Paris:20241220T200000
DTSTAMP:20260421T134259
CREATED:20241124T183645Z
LAST-MODIFIED:20241124T183745Z
UID:9298-1734724800-1734724800@www.vitteaux.fr
SUMMARY:Cinéma "Trois amies"
DESCRIPTION:Joan n’est plus amoureuse de Victor et souffre de se sentir malhonnête avec lui. Alice\, sa meilleure amie\, la rassure : elle-même n’éprouve aucune passion pour Eric et pourtant leur couple se porte à merveille ! Elle ignore qu’il a une liaison avec Rebecca\, leur amie commune… Quand Joan décide finalement de quitter Victor et que celui-ci disparaît\, la vie des trois amies et leurs histoires s’en trouvent bouleversées.
URL:https://www.vitteaux.fr/evenement/cinema-trois-amies/
LOCATION:Salle Guéniot
CATEGORIES:Culture
ORGANIZER;CN="M%C3%A9diath%C3%A8que":MAILTO:bibliotheque-vitteaux@wanadoo.fr
END:VEVENT
END:VCALENDAR