BEGIN:VCALENDAR
VERSION:2.0
PRODID:-//Vitteaux - ECPv5.16.1//NONSGML v1.0//EN
CALSCALE:GREGORIAN
METHOD:PUBLISH
X-WR-CALNAME:Vitteaux
X-ORIGINAL-URL:https://www.vitteaux.fr
X-WR-CALDESC:évènements pour Vitteaux
BEGIN:VTIMEZONE
TZID:Europe/Paris
BEGIN:DAYLIGHT
TZOFFSETFROM:+0100
TZOFFSETTO:+0200
TZNAME:CEST
DTSTART:20230326T010000
END:DAYLIGHT
BEGIN:STANDARD
TZOFFSETFROM:+0200
TZOFFSETTO:+0100
TZNAME:CET
DTSTART:20231029T010000
END:STANDARD
END:VTIMEZONE
BEGIN:VEVENT
DTSTART;TZID=Europe/Paris:20230203T203000
DTEND;TZID=Europe/Paris:20230203T203000
DTSTAMP:20260425T212531
CREATED:20230118T203907Z
LAST-MODIFIED:20230124T164835Z
UID:5836-1675456200-1675456200@www.vitteaux.fr
SUMMARY:Cinéma - "Tirailleurs"
DESCRIPTION:  \n \n1917. Bakary Diallo s’enrôle dans l’armée française pour rejoindre Thierno\, son fils de 17 ans\, qui a été recruté de force. Envoyés sur le front\, père et fils vont devoir affronter la guerre ensemble. Galvanisé par la fougue de son officier qui veut le conduire au cœur de la bataille\, Thierno va s’affranchir et apprendre à devenir un homme\, tandis que Bakary va tout faire pour l’arracher aux combats et le ramener sain et sauf.
URL:https://www.vitteaux.fr/evenement/cinema-tirailleurs/
LOCATION:Salle Guéniot
CATEGORIES:Culture
ORGANIZER;CN="M%C3%A9diath%C3%A8que":MAILTO:bibliotheque-vitteaux@wanadoo.fr
END:VEVENT
END:VCALENDAR