BEGIN:VCALENDAR
VERSION:2.0
PRODID:-//Vitteaux - ECPv5.16.1//NONSGML v1.0//EN
CALSCALE:GREGORIAN
METHOD:PUBLISH
X-WR-CALNAME:Vitteaux
X-ORIGINAL-URL:https://www.vitteaux.fr
X-WR-CALDESC:évènements pour Vitteaux
BEGIN:VTIMEZONE
TZID:Europe/Paris
BEGIN:DAYLIGHT
TZOFFSETFROM:+0100
TZOFFSETTO:+0200
TZNAME:CEST
DTSTART:20230326T010000
END:DAYLIGHT
BEGIN:STANDARD
TZOFFSETFROM:+0200
TZOFFSETTO:+0100
TZNAME:CET
DTSTART:20231029T010000
END:STANDARD
END:VTIMEZONE
BEGIN:VEVENT
DTSTART;TZID=Europe/Paris:20231229T150000
DTEND;TZID=Europe/Paris:20231229T150000
DTSTAMP:20260422T200134
CREATED:20231114T062832Z
LAST-MODIFIED:20231223T170353Z
UID:7513-1703862000-1703862000@www.vitteaux.fr
SUMMARY:Cinéma - L'incroyable Noël de Shaun le mouton et de Timmy
DESCRIPTION:Cette année\, Noël devrait être parfait ! Sauf qu’avec Shaun et son troupeau d’amis rien ne se passe jamais comme prévu… Les joyeux préparatifs se transforment rapidement en une mission quasi impossible : entre les guirlandes tyroliennes\, les paquets cadeaux surprises et les enfants pas vraiment sages\, ça ne va pas être une mince affaire de réunir tout le monde autour du sapin. Prêts pour une course poursuite en traineau ? À vos marques\, prêts\, moutonnez ! \nVendredi 29 décembre \n15h \nSalle Guéniot
URL:https://www.vitteaux.fr/evenement/cinema-the-old-oak/
LOCATION:Salle Guéniot
CATEGORIES:Culture
END:VEVENT
END:VCALENDAR