BEGIN:VCALENDAR
VERSION:2.0
PRODID:-//Vitteaux - ECPv5.16.1//NONSGML v1.0//EN
CALSCALE:GREGORIAN
METHOD:PUBLISH
X-WR-CALNAME:Vitteaux
X-ORIGINAL-URL:https://www.vitteaux.fr
X-WR-CALDESC:évènements pour Vitteaux
BEGIN:VTIMEZONE
TZID:Europe/Paris
BEGIN:DAYLIGHT
TZOFFSETFROM:+0100
TZOFFSETTO:+0200
TZNAME:CEST
DTSTART:20250330T010000
END:DAYLIGHT
BEGIN:STANDARD
TZOFFSETFROM:+0200
TZOFFSETTO:+0100
TZNAME:CET
DTSTART:20251026T010000
END:STANDARD
END:VTIMEZONE
BEGIN:VEVENT
DTSTART;TZID=Europe/Paris:20250117T200000
DTEND;TZID=Europe/Paris:20250117T200000
DTSTAMP:20260421T133013
CREATED:20241215T143750Z
LAST-MODIFIED:20241215T143750Z
UID:9359-1737144000-1737144000@www.vitteaux.fr
SUMMARY:Cinéma "Saint EX"
DESCRIPTION:En 1930\, Antoine de Saint-Exupéry est pilote de l’Aéropostale en Argentine. Quand Henri Guillaumet\, son meilleur ami et le meilleur pilote de l’Aéropostale\, disparaît dans la Cordillère des Andes\, Saint-Ex décide de partir à sa recherche. Cette quête impossible l’oblige à se dépasser\, en faisant de sa capacité à rêver sa plus grande force…
URL:https://www.vitteaux.fr/evenement/cinema-saint-ex/
LOCATION:Salle Guéniot
CATEGORIES:Culture
ORGANIZER;CN="M%C3%A9diath%C3%A8que":MAILTO:bibliotheque-vitteaux@wanadoo.fr
END:VEVENT
END:VCALENDAR