BEGIN:VCALENDAR
VERSION:2.0
PRODID:-//Vitteaux - ECPv5.16.1//NONSGML v1.0//EN
CALSCALE:GREGORIAN
METHOD:PUBLISH
X-WR-CALNAME:Vitteaux
X-ORIGINAL-URL:https://www.vitteaux.fr
X-WR-CALDESC:évènements pour Vitteaux
BEGIN:VTIMEZONE
TZID:Europe/Paris
BEGIN:DAYLIGHT
TZOFFSETFROM:+0100
TZOFFSETTO:+0200
TZNAME:CEST
DTSTART:20250330T010000
END:DAYLIGHT
BEGIN:STANDARD
TZOFFSETFROM:+0200
TZOFFSETTO:+0100
TZNAME:CET
DTSTART:20251026T010000
END:STANDARD
END:VTIMEZONE
BEGIN:VEVENT
DTSTART;TZID=Europe/Paris:20250228T100000
DTEND;TZID=Europe/Paris:20250228T100000
DTSTAMP:20260419T143152
CREATED:20250119T152939Z
LAST-MODIFIED:20250119T153010Z
UID:9502-1740736800-1740736800@www.vitteaux.fr
SUMMARY:Cinéma "Pat et Mat"
DESCRIPTION:Les deux inséparables bricoleurs ont toujours des idées à la pelle pour améliorer leur quotidien. Toujours très actifs et jamais à court d’idées\, Pat & Mat prolongent leurs péripéties burlesques dans cette nouvelle sélection de courts métrages : Le Tube\, Le Popcorn\, Les Meubles\, Le Lave-auto\, La Porte.
URL:https://www.vitteaux.fr/evenement/cinema-pat-et-mat/
LOCATION:Salle Guéniot
CATEGORIES:Culture
ORGANIZER;CN="M%C3%A9diath%C3%A8que":MAILTO:bibliotheque-vitteaux@wanadoo.fr
END:VEVENT
END:VCALENDAR