BEGIN:VCALENDAR
VERSION:2.0
PRODID:-//Vitteaux - ECPv5.16.1//NONSGML v1.0//EN
CALSCALE:GREGORIAN
METHOD:PUBLISH
X-WR-CALNAME:Vitteaux
X-ORIGINAL-URL:https://www.vitteaux.fr
X-WR-CALDESC:évènements pour Vitteaux
BEGIN:VTIMEZONE
TZID:Europe/Paris
BEGIN:DAYLIGHT
TZOFFSETFROM:+0100
TZOFFSETTO:+0200
TZNAME:CEST
DTSTART:20250330T010000
END:DAYLIGHT
BEGIN:STANDARD
TZOFFSETFROM:+0200
TZOFFSETTO:+0100
TZNAME:CET
DTSTART:20251026T010000
END:STANDARD
END:VTIMEZONE
BEGIN:VEVENT
DTSTART;TZID=Europe/Paris:20250425T150000
DTEND;TZID=Europe/Paris:20250425T150000
DTSTAMP:20260421T213958
CREATED:20250401T174546Z
LAST-MODIFIED:20250401T174546Z
UID:9697-1745593200-1745593200@www.vitteaux.fr
SUMMARY:Cinéma "Paddington au Pérou"
DESCRIPTION:Alors que Paddington rend visite à sa tante Lucy bien-aimée\, qui réside désormais à la Maison des ours retraités au Pérou\, la famille Brown et notre ours préféré plongent dans un voyage inattendu et plein de mystères\, à travers la forêt amazonienne et jusqu’aux sommets des montagnes du Machu Picchu
URL:https://www.vitteaux.fr/evenement/cinema-paddington-au-perou/
LOCATION:Salle Guéniot
ORGANIZER;CN="M%C3%A9diath%C3%A8que":MAILTO:bibliotheque-vitteaux@wanadoo.fr
END:VEVENT
END:VCALENDAR