BEGIN:VCALENDAR
VERSION:2.0
PRODID:-//Vitteaux - ECPv5.16.1//NONSGML v1.0//EN
CALSCALE:GREGORIAN
METHOD:PUBLISH
X-WR-CALNAME:Vitteaux
X-ORIGINAL-URL:https://www.vitteaux.fr
X-WR-CALDESC:évènements pour Vitteaux
BEGIN:VTIMEZONE
TZID:Europe/Paris
BEGIN:DAYLIGHT
TZOFFSETFROM:+0100
TZOFFSETTO:+0200
TZNAME:CEST
DTSTART:20240331T010000
END:DAYLIGHT
BEGIN:STANDARD
TZOFFSETFROM:+0200
TZOFFSETTO:+0100
TZNAME:CET
DTSTART:20241027T010000
END:STANDARD
END:VTIMEZONE
BEGIN:VEVENT
DTSTART;TZID=Europe/Paris:20240329T203000
DTEND;TZID=Europe/Paris:20240329T203000
DTSTAMP:20260422T124056
CREATED:20240126T153853Z
LAST-MODIFIED:20240204T191106Z
UID:7945-1711744200-1711744200@www.vitteaux.fr
SUMMARY:Cinéma "Ma part de gaulois"
DESCRIPTION:Destiné à un CAP Mécanique\, Mourad se retrouve finalement en cursus général grâce aux stratagèmes de sa mère. Objectif : le bac ! Une formalité pour les « français » du centre-ville mais un événement sismique pour Mourad et son entourage : le premier de la cité à aller jusqu’au bac ! Dans son lycée général\, séparé de ses copains du quartier\, il rencontre de nouveaux amis qui lui font découvrir la musique. Avec en fond sonore les rumeurs accompagnant l’arrivée au pouvoir de Mitterrand au printemps 1981\, la Mère avait tout imaginé\, sauf que son Mourad soit totalement indifférent au sacro-saint baccalauréat\, en assumant sa Part de Gaulois.
URL:https://www.vitteaux.fr/evenement/cinema-ma-part-de-gaulois/
LOCATION:Salle Guéniot
CATEGORIES:Culture
ORGANIZER;CN="M%C3%A9diath%C3%A8que":MAILTO:bibliotheque-vitteaux@wanadoo.fr
END:VEVENT
END:VCALENDAR