BEGIN:VCALENDAR
VERSION:2.0
PRODID:-//Vitteaux - ECPv5.16.1//NONSGML v1.0//EN
CALSCALE:GREGORIAN
METHOD:PUBLISH
X-WR-CALNAME:Vitteaux
X-ORIGINAL-URL:https://www.vitteaux.fr
X-WR-CALDESC:évènements pour Vitteaux
BEGIN:VTIMEZONE
TZID:Europe/Paris
BEGIN:DAYLIGHT
TZOFFSETFROM:+0100
TZOFFSETTO:+0200
TZNAME:CEST
DTSTART:20230326T010000
END:DAYLIGHT
BEGIN:STANDARD
TZOFFSETFROM:+0200
TZOFFSETTO:+0100
TZNAME:CET
DTSTART:20231029T010000
END:STANDARD
END:VTIMEZONE
BEGIN:VEVENT
DTSTART;TZID=Europe/Paris:20230526T203000
DTEND;TZID=Europe/Paris:20230526T203000
DTSTAMP:20260420T214331
CREATED:20230408T114746Z
LAST-MODIFIED:20230516T132526Z
UID:6312-1685133000-1685133000@www.vitteaux.fr
SUMMARY:Cinéma "Les trois mousquetaires"
DESCRIPTION:Du Louvre au Palais de Buckingham\, des bas-fonds de Paris au siège de La Rochelle… dans un Royaume divisé par les guerres de religion et menacé d’invasion par l’Angleterre\, une poignée d’hommes et de femmes vont croiser leurs épées et lier leur destin à celui de la France.
URL:https://www.vitteaux.fr/evenement/cinema-les-trois-mousquetaires/
LOCATION:Salle Guéniot
CATEGORIES:Culture
END:VEVENT
END:VCALENDAR