BEGIN:VCALENDAR
VERSION:2.0
PRODID:-//Vitteaux - ECPv5.16.1//NONSGML v1.0//EN
CALSCALE:GREGORIAN
METHOD:PUBLISH
X-WR-CALNAME:Vitteaux
X-ORIGINAL-URL:https://www.vitteaux.fr
X-WR-CALDESC:évènements pour Vitteaux
BEGIN:VTIMEZONE
TZID:Europe/Paris
BEGIN:DAYLIGHT
TZOFFSETFROM:+0100
TZOFFSETTO:+0200
TZNAME:CEST
DTSTART:20230326T010000
END:DAYLIGHT
BEGIN:STANDARD
TZOFFSETFROM:+0200
TZOFFSETTO:+0100
TZNAME:CET
DTSTART:20231029T010000
END:STANDARD
END:VTIMEZONE
BEGIN:VEVENT
DTSTART;TZID=Europe/Paris:20230929T203000
DTEND;TZID=Europe/Paris:20230929T203000
DTSTAMP:20260422T142905
CREATED:20230909T155353Z
LAST-MODIFIED:20230916T063242Z
UID:7149-1696019400-1696019400@www.vitteaux.fr
SUMMARY:Cinéma - Le livre des solutions
DESCRIPTION:La saison du cinéma reprend aussi ses droits après les vacances estivales. La prochaine projection aura lieu le vendredi 29 septembre (20h30) à la salle Gueniot avec le film Le livre des solutions. \n \nMarc s’enfuit avec toute son équipe dans un petit village des Cévennes pour finir son film chez sa tante Denise. Sur place\, sa créativité se manifeste par un million d’idées qui le plongent dans un drôle de chaos. Marc se lance alors dans l’écriture du Livre des Solutions\, un guide de conseils pratiques qui pourrait bien être la solution à tous ses problèmes… \nVendredi 29 septembre \n20h30 \nSalle Gueniot \n 
URL:https://www.vitteaux.fr/evenement/cinema-le-livre-des-solutions/
LOCATION:Salle Guéniot
CATEGORIES:Culture
END:VEVENT
END:VCALENDAR