BEGIN:VCALENDAR
VERSION:2.0
PRODID:-//Vitteaux - ECPv5.16.1//NONSGML v1.0//EN
CALSCALE:GREGORIAN
METHOD:PUBLISH
X-WR-CALNAME:Vitteaux
X-ORIGINAL-URL:https://www.vitteaux.fr
X-WR-CALDESC:évènements pour Vitteaux
BEGIN:VTIMEZONE
TZID:Europe/Paris
BEGIN:DAYLIGHT
TZOFFSETFROM:+0100
TZOFFSETTO:+0200
TZNAME:CEST
DTSTART:20240331T010000
END:DAYLIGHT
BEGIN:STANDARD
TZOFFSETFROM:+0200
TZOFFSETTO:+0100
TZNAME:CET
DTSTART:20241027T010000
END:STANDARD
END:VTIMEZONE
BEGIN:VEVENT
DTSTART;TZID=Europe/Paris:20240426T150000
DTEND;TZID=Europe/Paris:20240426T150000
DTSTAMP:20260422T173930
CREATED:20240322T204916Z
LAST-MODIFIED:20240322T205133Z
UID:8299-1714143600-1714143600@www.vitteaux.fr
SUMMARY:Cinéma "Le dernier Jaguar"
DESCRIPTION:Autumn grandit dans la forêt amazonienne aux côtes de Hope\, un adorable bébé jaguar femelle qu’elle a recueilli. Mais l’année de ses six ans\, un drame familial contraint Autumn et son père à retourner vivre à New York. Huit années passent\, et Autumn\, devenue adolescente\, n’a jamais oublié son amie jaguar. Quand elle apprend que Hope est en danger de mort\, Autumn décide de retourner dans la jungle pour la sauver !
URL:https://www.vitteaux.fr/evenement/cinema-le-dernier-jaguar/
LOCATION:Salle Guéniot
ORGANIZER;CN="M%C3%A9diath%C3%A8que":MAILTO:bibliotheque-vitteaux@wanadoo.fr
END:VEVENT
END:VCALENDAR