BEGIN:VCALENDAR
VERSION:2.0
PRODID:-//Vitteaux - ECPv5.16.1//NONSGML v1.0//EN
CALSCALE:GREGORIAN
METHOD:PUBLISH
X-WR-CALNAME:Vitteaux
X-ORIGINAL-URL:https://www.vitteaux.fr
X-WR-CALDESC:évènements pour Vitteaux
BEGIN:VTIMEZONE
TZID:Europe/Paris
BEGIN:DAYLIGHT
TZOFFSETFROM:+0100
TZOFFSETTO:+0200
TZNAME:CEST
DTSTART:20240331T010000
END:DAYLIGHT
BEGIN:STANDARD
TZOFFSETFROM:+0200
TZOFFSETTO:+0100
TZNAME:CET
DTSTART:20241027T010000
END:STANDARD
END:VTIMEZONE
BEGIN:VEVENT
DTSTART;TZID=Europe/Paris:20240301T150000
DTEND;TZID=Europe/Paris:20240301T150000
DTSTAMP:20260422T230049
CREATED:20240214T160935Z
LAST-MODIFIED:20240229T181521Z
UID:8044-1709305200-1709305200@www.vitteaux.fr
SUMMARY:Cinéma La petite taupe
DESCRIPTION:La petite taupe vit au milieu de la forêt entourée de nombreux animaux. Sa curiosité et sa joie de vivre l’entraînent dans des aventures rocambolesques auxquelles elle fait face grâce à la complicité de ses amis. Cette projection compte six courts-métrages : la Petite Taupe et la radio\, La Petite Taupe peintre\, la Petite taupe photographe. \nTarifs : adulte 4\,50 € – enfants 3\,50 € \n  \nChaque année\, pendant les vacances d’hiver\, Les Tourneurs de Côte-d’Or et le Conseil Départemental proposent un festival de cinéma « Tournez bobines » itinérant pour les jeunes Côte-d’Oriens et leur famille. Cette année\, le festival s’arrête dans 22 communes de Côte-d’Or et Vitteaux en fait partie ! \nÀ chaque séance\, des jeux\, des cadeaux et un goûter sont offerts ! \nRetrouvez toutes les informations sur le festival ici
URL:https://www.vitteaux.fr/evenement/cinema-la-petite-taupe/
LOCATION:Salle Guéniot
CATEGORIES:Culture
ORGANIZER;CN="M%C3%A9diath%C3%A8que":MAILTO:bibliotheque-vitteaux@wanadoo.fr
END:VEVENT
END:VCALENDAR