BEGIN:VCALENDAR
VERSION:2.0
PRODID:-//Vitteaux - ECPv5.16.1//NONSGML v1.0//EN
CALSCALE:GREGORIAN
METHOD:PUBLISH
X-WR-CALNAME:Vitteaux
X-ORIGINAL-URL:https://www.vitteaux.fr
X-WR-CALDESC:évènements pour Vitteaux
BEGIN:VTIMEZONE
TZID:Europe/Paris
BEGIN:DAYLIGHT
TZOFFSETFROM:+0100
TZOFFSETTO:+0200
TZNAME:CEST
DTSTART:20240331T010000
END:DAYLIGHT
BEGIN:STANDARD
TZOFFSETFROM:+0200
TZOFFSETTO:+0100
TZNAME:CET
DTSTART:20241027T010000
END:STANDARD
END:VTIMEZONE
BEGIN:VEVENT
DTSTART;TZID=Europe/Paris:20240301T203000
DTEND;TZID=Europe/Paris:20240301T203000
DTSTAMP:20260422T205949
CREATED:20240126T153756Z
LAST-MODIFIED:20240204T190800Z
UID:7943-1709325000-1709325000@www.vitteaux.fr
SUMMARY:Cinéma "La ferme des Bertrand"
DESCRIPTION:50 ans dans la vie d’une ferme. Haute Savoie\, 1972 : la ferme des Bertrand\, exploitation laitière d’une centaine de bêtes tenue par trois frères célibataires\, est filmée pour la première fois. En voisin\, le réalisateur Gilles Perret leur consacre en 1997 son premier film\, alors que les trois agriculteurs sont en train de transmettre la ferme à leur neveu Patrick et sa femme Hélène. Aujourd’hui\, 25 ans plus tard\, le réalisateur-voisin reprend la caméra pour accompagner Hélène qui\, à son tour\, va passer la main. A travers la parole et les gestes des personnes qui se sont succédé\, le film dévoile des parcours de vie bouleversants où travail et transmission occupent une place centrale : une histoire à la fois intime\, sociale et économique de notre monde paysan.
URL:https://www.vitteaux.fr/evenement/cinema-la-ferme-des-bertrand/
LOCATION:Salle Guéniot
CATEGORIES:Culture
ORGANIZER;CN="M%C3%A9diath%C3%A8que":MAILTO:bibliotheque-vitteaux@wanadoo.fr
END:VEVENT
END:VCALENDAR