BEGIN:VCALENDAR
VERSION:2.0
PRODID:-//Vitteaux - ECPv5.16.1//NONSGML v1.0//EN
CALSCALE:GREGORIAN
METHOD:PUBLISH
X-WR-CALNAME:Vitteaux
X-ORIGINAL-URL:https://www.vitteaux.fr
X-WR-CALDESC:évènements pour Vitteaux
BEGIN:VTIMEZONE
TZID:Europe/Paris
BEGIN:DAYLIGHT
TZOFFSETFROM:+0100
TZOFFSETTO:+0200
TZNAME:CEST
DTSTART:20250330T010000
END:DAYLIGHT
BEGIN:STANDARD
TZOFFSETFROM:+0200
TZOFFSETTO:+0100
TZNAME:CET
DTSTART:20251026T010000
END:STANDARD
END:VTIMEZONE
BEGIN:VEVENT
DTSTART;TZID=Europe/Paris:20250523T200000
DTEND;TZID=Europe/Paris:20250523T200000
DTSTAMP:20260422T124726
CREATED:20250522T195837Z
LAST-MODIFIED:20250522T195837Z
UID:9902-1748030400-1748030400@www.vitteaux.fr
SUMMARY:Cinéma "Bergers"
DESCRIPTION:Sur un coup de tête\, Mathyas troque sa vie de publicitaire à Montréal pour celle de berger en Provence. Il espérait trouver la quiétude\, il découvre un métier éreintant et des éleveurs souvent à bout. Mais quand il rencontre Elise qui elle aussi vient de tout quitter\, ils se voient confier un troupeau de 800 moutons et s’engagent dans une transhumance. Ensemble\, ils vont traverser les épreuves de la montagne et se façonner une vie nouvelle.
URL:https://www.vitteaux.fr/evenement/cinema-bergers/
LOCATION:Salle Guéniot
ORGANIZER;CN="M%C3%A9diath%C3%A8que":MAILTO:bibliotheque-vitteaux@wanadoo.fr
END:VEVENT
END:VCALENDAR