BEGIN:VCALENDAR
VERSION:2.0
PRODID:-//Vitteaux - ECPv5.16.1//NONSGML v1.0//EN
CALSCALE:GREGORIAN
METHOD:PUBLISH
X-WR-CALNAME:Vitteaux
X-ORIGINAL-URL:https://www.vitteaux.fr
X-WR-CALDESC:évènements pour Vitteaux
BEGIN:VTIMEZONE
TZID:Europe/Paris
BEGIN:DAYLIGHT
TZOFFSETFROM:+0100
TZOFFSETTO:+0200
TZNAME:CEST
DTSTART:20220327T010000
END:DAYLIGHT
BEGIN:STANDARD
TZOFFSETFROM:+0200
TZOFFSETTO:+0100
TZNAME:CET
DTSTART:20221030T010000
END:STANDARD
END:VTIMEZONE
BEGIN:VEVENT
DTSTART;TZID=Europe/Paris:20221125T203000
DTEND;TZID=Europe/Paris:20221125T203000
DTSTAMP:20260426T023530
CREATED:20221113T130002Z
LAST-MODIFIED:20221119T084704Z
UID:5319-1669408200-1669408200@www.vitteaux.fr
SUMMARY:Cinéma - "Belle et Sébastien : Nouvelle génération"
DESCRIPTION:Sébastien\, 10 ans\, passe ses vacances à contrecœur à la montagne chez sa grand-mère et sa tante. Il doit donner un coup de main à la bergerie\, rien de bien excitant pour un garçon des villes comme lui… Mais c’est sans compter sur sa rencontre avec Belle\, une chienne immense et maltraitée par son maître. Prêt à tout pour éviter les injustices et protéger sa nouvelle amie\, Sébastien va vivre l’été le plus fou de sa vie
URL:https://www.vitteaux.fr/evenement/cinema-belle-et-sebastien/
LOCATION:Salle Guéniot
CATEGORIES:Culture
END:VEVENT
END:VCALENDAR