BEGIN:VCALENDAR
VERSION:2.0
PRODID:-//Vitteaux - ECPv5.16.1//NONSGML v1.0//EN
CALSCALE:GREGORIAN
METHOD:PUBLISH
X-WR-CALNAME:Vitteaux
X-ORIGINAL-URL:https://www.vitteaux.fr
X-WR-CALDESC:évènements pour Vitteaux
BEGIN:VTIMEZONE
TZID:Europe/Paris
BEGIN:DAYLIGHT
TZOFFSETFROM:+0100
TZOFFSETTO:+0200
TZNAME:CEST
DTSTART:20250330T010000
END:DAYLIGHT
BEGIN:STANDARD
TZOFFSETFROM:+0200
TZOFFSETTO:+0100
TZNAME:CET
DTSTART:20251026T010000
END:STANDARD
END:VTIMEZONE
BEGIN:VEVENT
DTSTART;TZID=Europe/Paris:20250104T190000
DTEND;TZID=Europe/Paris:20250104T190000
DTSTAMP:20260421T171534
CREATED:20241215T144405Z
LAST-MODIFIED:20241223T132412Z
UID:9365-1736017200-1736017200@www.vitteaux.fr
SUMMARY:Cérémonie des voeux de la commune
DESCRIPTION:
URL:https://www.vitteaux.fr/evenement/ceremonie-des-voeux-de-la-commune/
LOCATION:Salle polyvalente\, 6 Chemin des Dames\, VITTEAUX\, Cote d'or\, 21350\, France
CATEGORIES:Manifestation
ORGANIZER;CN="Mairie":MAILTO:mairie-vitteaux@wanadoo.fr
END:VEVENT
END:VCALENDAR