BEGIN:VCALENDAR
VERSION:2.0
PRODID:-//Vitteaux - ECPv5.16.1//NONSGML v1.0//EN
CALSCALE:GREGORIAN
METHOD:PUBLISH
X-WR-CALNAME:Vitteaux
X-ORIGINAL-URL:https://www.vitteaux.fr
X-WR-CALDESC:évènements pour Vitteaux
BEGIN:VTIMEZONE
TZID:Europe/Paris
BEGIN:DAYLIGHT
TZOFFSETFROM:+0100
TZOFFSETTO:+0200
TZNAME:CEST
DTSTART:20220327T010000
END:DAYLIGHT
BEGIN:STANDARD
TZOFFSETFROM:+0200
TZOFFSETTO:+0100
TZNAME:CET
DTSTART:20221030T010000
END:STANDARD
END:VTIMEZONE
BEGIN:VEVENT
DTSTART;TZID=Europe/Paris:20221104T140000
DTEND;TZID=Europe/Paris:20221104T160000
DTSTAMP:20260426T023523
CREATED:20221019T094752Z
LAST-MODIFIED:20221019T094752Z
UID:5169-1667570400-1667577600@www.vitteaux.fr
SUMMARY:Campagne d'hiver des "Restos du coeur"
DESCRIPTION:La campagne de l’hiver 2022/2023 des « Restos du coeur » débute prochainement. \nLes inscriptions ont lieu le vendredi 4 novembre et le vendredi 18 novembre\, de 14h à 16h\, uniquement sur rendez-vous au 06 12 72 21 74. \nLa 1ere distribution aura lieu le vendredi 25 novembre de 14h à 16h. \n \n 
URL:https://www.vitteaux.fr/evenement/campagne-dhiver-des-restos-du-coeur/
END:VEVENT
END:VCALENDAR