BEGIN:VCALENDAR
VERSION:2.0
PRODID:-//Vitteaux - ECPv5.16.1//NONSGML v1.0//EN
CALSCALE:GREGORIAN
METHOD:PUBLISH
X-WR-CALNAME:Vitteaux
X-ORIGINAL-URL:https://www.vitteaux.fr
X-WR-CALDESC:évènements pour Vitteaux
BEGIN:VTIMEZONE
TZID:Europe/Paris
BEGIN:DAYLIGHT
TZOFFSETFROM:+0100
TZOFFSETTO:+0200
TZNAME:CEST
DTSTART:20230326T010000
END:DAYLIGHT
BEGIN:STANDARD
TZOFFSETFROM:+0200
TZOFFSETTO:+0100
TZNAME:CET
DTSTART:20231029T010000
END:STANDARD
END:VTIMEZONE
BEGIN:VEVENT
DTSTART;VALUE=DATE:20230513
DTEND;VALUE=DATE:20230514
DTSTAMP:20260421T061140
CREATED:20230501T154518Z
LAST-MODIFIED:20230512T145830Z
UID:6356-1683936000-1684022399@www.vitteaux.fr
SUMMARY:Atelier de salsa et de bachata
DESCRIPTION:L’AFR vous propose un stage débutant de salsa et de bachata\, ouvert à tous\, le samedi 13 mai de 19h à 22h. \nSi vous n’avez jamais dansé\, c’est le moment d’en profiter! \n \nTarifs : 30€ les deux stages\, 45€ pour un couple (inscription pour valable pour 2 personnes) \nRéservation obligatoire auprès de l’Association des Familles Rurales : 03 80 64 63 89\, 03 80 49 68 92 ou afr21350@gmail.com
URL:https://www.vitteaux.fr/evenement/atelier-de-salsa-et-de-bachata/
LOCATION:Salle de l’ancienne école maternelle\, Rue Edmé Millot\, Vitteaux\, 21350
ORGANIZER;CN="Association%20Familles%20Rurales":MAILTO:afr21350@gmail.com
END:VEVENT
END:VCALENDAR