BEGIN:VCALENDAR
VERSION:2.0
PRODID:-//Vitteaux - ECPv5.16.1//NONSGML v1.0//EN
CALSCALE:GREGORIAN
METHOD:PUBLISH
X-WR-CALNAME:Vitteaux
X-ORIGINAL-URL:https://www.vitteaux.fr
X-WR-CALDESC:évènements pour Vitteaux
BEGIN:VTIMEZONE
TZID:Europe/Paris
BEGIN:DAYLIGHT
TZOFFSETFROM:+0100
TZOFFSETTO:+0200
TZNAME:CEST
DTSTART:20240331T010000
END:DAYLIGHT
BEGIN:STANDARD
TZOFFSETFROM:+0200
TZOFFSETTO:+0100
TZNAME:CET
DTSTART:20241027T010000
END:STANDARD
END:VTIMEZONE
BEGIN:VEVENT
DTSTART;TZID=Europe/Paris:20240315T093000
DTEND;TZID=Europe/Paris:20240315T113000
DTSTAMP:20260422T160613
CREATED:20240224T151417Z
LAST-MODIFIED:20240224T151652Z
UID:8182-1710495000-1710502200@www.vitteaux.fr
SUMMARY:Atelier Bons Jours "La nutrition\, où en êtes-vous ?"
DESCRIPTION:La FAPA Seniors 21 propose ainsi un atelier « Nutrition\, où en êtes vous ? » organisé à Vitteaux qui se déroulera sur 9 séances de 2 heures. \nRetrouvez le détail de l’atelier « La nutrition\, où en êtes vous ? » ici \nPlus d’informations sur les ateliers Bons Jours ici \nRenseignements et inscriptions à l’atelier « La nutrition\, où en êtes vous ? » de Vitteaux ici
URL:https://www.vitteaux.fr/evenement/atelier-bons-jours-la-nutrition-ou-en-etes-vous-seance-1/
LOCATION:Mairie (salle basse)\, 23 rue de l'Hôtel de Ville\, VITTEAUX\, 21350\, France
ORGANIZER;CN="FAPA%20SENIORS%2021":MAILTO:contact@fapaseniors21.fr
END:VEVENT
END:VCALENDAR