BEGIN:VCALENDAR
VERSION:2.0
PRODID:-//Vitteaux - ECPv5.16.1//NONSGML v1.0//EN
CALSCALE:GREGORIAN
METHOD:PUBLISH
X-WR-CALNAME:Vitteaux
X-ORIGINAL-URL:https://www.vitteaux.fr
X-WR-CALDESC:évènements pour Vitteaux
BEGIN:VTIMEZONE
TZID:Europe/Paris
BEGIN:DAYLIGHT
TZOFFSETFROM:+0100
TZOFFSETTO:+0200
TZNAME:CEST
DTSTART:20250330T010000
END:DAYLIGHT
BEGIN:STANDARD
TZOFFSETFROM:+0200
TZOFFSETTO:+0100
TZNAME:CET
DTSTART:20251026T010000
END:STANDARD
END:VTIMEZONE
BEGIN:VEVENT
DTSTART;TZID=Europe/Paris:20250123T190000
DTEND;TZID=Europe/Paris:20250123T190000
DTSTAMP:20260421T102535
CREATED:20250117T125625Z
LAST-MODIFIED:20250117T125756Z
UID:9486-1737658800-1737658800@www.vitteaux.fr
SUMMARY:Conseil municipal
DESCRIPTION:Le conseil municipal se réunira le jeudi 23 janvier à 19 h en mairie de Vitteaux\, salle du Conseil Municipal. \nOrdre du jour : \n1- Communications \n2- Subventions voirie communale 2025 \n3- Subventions DETR Rénovation logement de la gare \n4- Subventions DETR Projet Petites Villes de Demain \n5- Adhésion Ingenierie Côte-d’Or 2025 \n6- Convention Conseil Départemental Assistance à maitrise d’ouvrage \n7- Convention SICECO Choix montage site de production photovoltaique \n8- Acquisition Tour du Pont de l’Oeuf et immeuble de la Caisse d’Epargne \n9- Rapport CLECT charges transférées suite au transfert de compétence mobilité (autorité organisatrice de la mobilité) \n10- Contrat agent technique Mme PERRAUD \n11- Recrutement agent technique par voie de mutation M. Dominique MAURICE \n12- Suppression et création de poste adjoint administratif \n13- Questions diverses \n 
URL:https://www.vitteaux.fr/evenement/9486/
LOCATION:Mairie (salle du conseil municipal)\, 23 rue de l'Hôtel de Ville\, VITTEAUX\, 21350
CATEGORIES:Citoyennete
ORGANIZER;CN="Mairie":MAILTO:mairie-vitteaux@wanadoo.fr
END:VEVENT
END:VCALENDAR